Workbook
Name _1: "★★"
Name _11: #N/A
Name _2: #N/A
Name _22: #N/A
Name _3: #N/A
Name _4: #N/A
Name _5: #N/A
Name _6: #N/A
Name _6_3_0Crite: #REF!
Name _7_3_0Criteria: #REF!
Name _8G_0Extr: #REF!
Name _9G_0Extract: #REF!
Name _A82319: #REF!
Name _AHU2: [0]!_AHU2
Name _AHU222: [0]!_AHU222
Name _AHU3: [0]!_AHU3
Name _DOG1: #REF!
Name _DOG2: #REF!
Name _DOG22: #REF!
Name _DOG3: #REF!
Name _DOG33: #REF!
Name _DOG4: #REF!
Name _ELL45: #REF!
Name _ELL90: #REF!
Name _IL1: #REF!
Name _O: "○"
Name _P1: #REF!
Name _P10: #REF!
Name _P11: #REF!
Name _P12: #REF!
Name _P13: #REF!
Name _P14: #REF!
Name _P15: #REF!
Name _P16: #REF!
Name _P17: #REF!
Name _P2: #REF!
Name _P7: #REF!
Name _P8: #REF!
Name _P9: #REF!
Name _PH1: #REF!
Name _PI48: #REF!
Name _PI60: #REF!
Name _RE100: #REF!
Name _RE104: #REF!
Name _RE112: #REF!
Name _RE26: #REF!
Name _RE28: #REF!
Name _RE30: #REF!
Name _RE32: #REF!
Name _RE34: #REF!
Name _RE36: #REF!
Name _RE38: #REF!
Name _RE40: #REF!
Name _RE42: #REF!
Name _RE44: #REF!
Name _RE48: #REF!
Name _RE52: #REF!
Name _RE56: #REF!
Name _RE60: #REF!
Name _RE64: #REF!

Sheet 설계표지
B1: 설 계 년월일 | F1: 2018년 월 일 | M1: 본부장 | T1: 소 장 | AA1: 팀 장 | AH1: 검산자 | AO1: 담당자
H11: =[17]표지!B10 -> 재이용수 공급설비 보완 및 노후펌프 교체 공사
K16: 공사개요 : | T16: 재이용수 공급설비 보완 및 노후펌프 교체 공사 1식
J25: 총공사비 : | O25: =AI25 -> 45003000 | AD25: 원 | AG25: (￦ | AI25: 45003000 | AO25: )
O27: (관급 : \22,000,000원, 도급 : \23,003,000원)

Sheet 설계설명서
C2: 설 계 설 명 서
C6: 1. 공 사 명 : 재이용수 공급설비 보완 및 노후펌프 교체 공사
C8: 2. 위 치 : 안동시 앙실3길 21-20(수하동 660) 안동공공하수처리장
C10: 3. 목 적 : 재이용수 공급부족 현상 개선을 위한 노후펌프 교체 및 용수공급배관
C11: 설치를 통한 재이용수 공급성능을 향상시키고자 함.
C13: 4. 공사개요 : 노후용수공급 펌프 교체 및 배관설치(STS 304 150A ⅹ 15m)
C14: 하수찌꺼기시설 용수공급 배관 설치, 신규펌프설치 및 노후펌프 교체
C15: (STS 304 50A ⅹ 56m)
C17: 5. 시행기간 : 본 공사는 착공일로부터 90일간으로 한다
C19: 6. 설계변경 : 본 용역은 공정 및 물량의 변동이 불가피할 때 설계 변경할 수 있다.
C21: 7. 안전조치 : 작업중 안전조치를 철저히 하며, 안전사고로 인한 모든 책임은 도급자가 진다.

Sheet 원가계산서
A1: 원 가 계 산 서
A2: 공사명 : 재이용수 공급배관 및 노후펌프 교체 공사
A3: 구 분 비 목 | E3: 적 용 요 율 | F3: 적 용 금 액 | G3: 구성비(%) | H3: 비고
A4: 순 공 사 원 가 | B4: A. | C4: 재 료 비 | F4: =공사집계표!H27 -> 0 | J4: =F4+F5+F8 -> 0 | K4: =F4+F6+F9 -> 0
B5: B. | C5: 노 무 비 | F5: =+F6+F7 -> 0
C6: (1) | D6: 직 접 노 무 비 | F6: =공사집계표!J27 -> 0
C7: (2) | D7: 간 접 노 무 비 | E7: =+J7 -> 7.9 | F7: =INT(F6*J7/100) -> 0 | J7: 7.9
B8: C. | C8: 경 비 | F8: =SUM(F9:F20) -> 0
C9: (1) | D9: 내 역 서 상 경 비 | F9: =공사집계표!L27 -> 0
C10: (2) | D10: 산 재 보 험 료 | E10: =+J10 -> 4.05 | F10: =INT(F6*J10/100) -> 0 | J10: 4.05
C11: (3) | D11: 고 용 보 험 료 | E11: =+J11 -> 0.87 | F11: =INT(F7*J11/100) -> 0 | J11: 0.87
C12: (4) | D12: 건 강 보 험 료 | E12: =+J12 -> 1.7 | F12: =INT(F6*J12/100) -> 0 | J12: 1.7
C13: (5) | D13: 연 금 보 험 료 | E13: =+J13 -> 2.49 | F13: =INT(F6*J13/100) -> 0 | J13: 2.49
C14: (6) | D14: 노인장기요양보험료 | E14: =+J14 -> 7.38 | F14: =INT(F12*J14/100) -> 0 | J14: 7.38
C15: (7) | D15: 퇴직공제부금비 | E15: =+J15 -> 2.3 | J15: 2.3
C16: (8) | D16: 건설기계대여대금 지급보증서 발급금액 | E16: =+J16 -> 0.41 | J16: 0.41
C17: (9) | D17: 산업안전보건관리비 | E17: =+K17 -> 1.85 | F17: =MIN(L17,L18) -> 0 | J17: 1.85 | K17: =+J17 -> 1.85 | L17: =INT((F4+F6)*J17/100*1.2) -> 0
C18: (10) | D18: 기 타 경 비 | E18: =+J18 -> 5.5 | F18: =INT((F4+F5)*J18/100) -> 0 | J18: 5.5 | K18: =+J17 -> 1.85
C19: (11) | D19: 건설하도급대금 지급보증서 발급수수료 | E19: =+J19 -> 0.075 | J19: 0.075
C20: (12) | D20: 환 경 보 전 비 | E20: =+J20 -> 0.5 | F20: =INT((F4+F6+F9)*J20/100) -> 0 | J20: 0.5
A21: D. | B21: 일 반 관 리 비 | E21: =+J21 -> 4.95 | F21: =INT((F4+F5+F8)*J21/100) -> 0 | J21: 4.95 | K21: 원단위절사
A22: E. | B22: 이 윤 | E22: =+J22 -> 15 | J22: 15 | K22: -2931
A23: F. | B23: 공급가액 | F23: =F4+F5+F8+F21+F22 -> 0
A24: G. | B24: 부 가 가 치 세 | E24: [F]×10% | F24: =F23*0.1 -> 0 | K24: =F7+F18+F21+F22 -> 0
A25: H. | B25: 도급액 | E25: [F]+[G] | F25: =SUM(F23:F24) -> 0
A26: I. | B26: 관급자재비(펌프,전동기포함)
A27: J. | B27: 총 공 사 비 | E27: [A+B+C+D+E+F+G] | F27: =SUM(F25:F26) -> 0
A28: J. | B28: 관급자재비(도급자설치비) | F28: 0
A29: K. | B29: 총 공 사 비 | F29: =F4+F5+F8+F21+F22+F23+F26+F25 -> 0

Sheet 공사집계표
A1: 공 사 집 계 표
A2: [재이용수 공급설비 보완 및 노후펌프 교체 공사]
A3: 품 명 | B3: 규 격 | C3: 단위 | D3: 수량 | E3: 합 계 | G3: 재 료 비 | I3: 노 무 비 | K3: 경 비 | M3: 비 고 | N3: 공종코드 | O3: 변수 | P3: 상위공종 | Q3: 공종구분 | R3: 공종레벨 | S3: 공종소계 | T3: 원가계산서 연결금액
E4: 단 가 | F4: 금 액 | G4: 단 가 | H4: 금 액 | I4: 단 가 | J4: 금 액 | K4: 단 가 | L4: 금 액
A5: Ⅰ. 관급자재비(펌프) | D5: 1 | E5: =G5+I5+K5 -> 0 | F5: =H5+J5+L5 -> 0 | G5: =H6 -> 0 | H5: =공사비내역서!H26 -> 0 | I5: =J6 -> 0 | K5: =L6 -> 0 | N5: 0101 | P5: 01 | R5: 2
N6: 010101 | P6: 0101 | R6: 3
F7: =H7+J7+L7 -> 0 | H7: =G7*D7 -> 0 | I7: =공사비내역서!J26 -> 0 | J7: =I7*D7 -> 0 | K7: =L26 -> 0 | L7: =K7*D7 -> 0 | N7: 01010101 | P7: 010101 | R7: 4
A8: 2하수찌꺼기시설 용수공급 펌프 및 배관 설치 | D8: 1 | E8: =SUM(E9:E10) -> 0 | F8: =SUM(F9:F10) -> 0 | G8: =SUM(G9:G10) -> 0 | H8: =SUM(H9:H10) -> 0 | I8: =SUM(I9:I10) -> 0 | J8: =SUM(J9:J10) -> 0 | K8: =SUM(K9:K10) -> 0 | L8: =SUM(L9:L10) -> 0 | N8: 0101010102 | P8: 01010101 | R8: 5
A9: ① 하수찌꺼기시설 용수공급 펌프 및 배관 설치 | D9: 1 | E9: =G9+I9+K9 -> 0 | F9: =H9+J9+L9 -> 0 | G9: =공사비내역서!H50 -> 0 | H9: =G9*D9 -> 0 | I9: =공사비내역서!J50 -> 0 | J9: =I9*D9 -> 0 | K9: =공사비내역서!L50 -> 0 | L9: =K9*D9 -> 0
A10: ② 잡철물제작설치(STS) 간단 | D10: 1 | E10: =G10+I10+K10 -> 0 | F10: =H10+J10+L10 -> 0 | G10: =공사비내역서!H71 -> 0 | H10: =G10*D10 -> 0 | I10: =공사비내역서!J71 -> 0 | J10: =I10*D10 -> 0 | K10: =공사비내역서!L71 -> 0 | L10: =K10*D10 -> 0 | N10: 0101010103 | P10: 01010101 | R10: 5
A11: 3 재이용수 공급 배관 설치 및 노후 펌프교체 | D11: 1 | E11: =SUM(E12:E13) -> 0 | F11: =SUM(F12:F13) -> 0 | G11: =SUM(G12:G13) -> 0 | H11: =SUM(H12:H13) -> 0 | I11: =SUM(I12:I13) -> 0 | J11: =SUM(J12:J13) -> 0 | K11: =SUM(K12:K13) -> 0 | L11: =SUM(L12:L13) -> 0 | N11: 01010102 | P11: 010101 | R11: 4
A12: ① 재이용수 공급 배관 설치 및 노후 펌프교체 | D12: 1 | E12: =G12+I12+K12 -> 0 | F12: =H12+J12+L12 -> 0 | G12: =공사비내역서!H95 -> 0 | H12: =G12*D12 -> 0 | I12: =공사비내역서!J95 -> 0 | J12: =I12*D12 -> 0 | K12: =공사비내역서!L95 -> 0 | L12: =K12*D12 -> 0 | N12: 010101010301 | P12: 0101010103 | R12: 6
A13: ② 잡철물제작설치(STS) 간단 | D13: 1 | E13: =G13+I13+K13 -> 0 | F13: =H13+J13+L13 -> 0 | G13: =공사비내역서!H116 -> 0 | H13: =G13*D13 -> 0 | I13: =공사비내역서!J116 -> 0 | J13: =I13*D13 -> 0 | K13: =공사비내역서!L116 -> 0 | L13: =K13*D13 -> 0 | N13: 010101010302 | P13: 0101010103 | R13: 6
N14: 0101010201 | P14: 01010102 | R14: 5
N15: 0101010202 | P15: 01010102 | R15: 5
N16: 010101020201 | P16: 0101010202 | R16: 6
N17: 010101020202 | P17: 0101010202 | R17: 6
N18: 01010104 | P18: 010101 | R18: 4
N19: 0101010401 | P19: 01010104 | R19: 5
N20: 0101010402 | P20: 01010104 | R20: 5
N21: 010101040201 | P21: 0101010402 | R21: 6
N22: 010101040202 | P22: 0101010402 | R22: 6
N23: 0102 | P23: 01 | R23: 2
N24: 010201 | P24: 0102 | R24: 3
A27: [ 합 계 ] | F27: =F11+F8 -> 0 | H27: =H11+H8 -> 0 | J27: =J11+J8 -> 0 | L27: =L11+L8 -> 0

Sheet 공사비내역서
A1: =공사집계표!A2 -> [재이용수 공급설비 보완 및 노후펌프 교체 공사]
A2: 품 명 | B2: 규 격 | C2: 단위 | D2: 수량 | E2: 합 계 | G2: 재 료 비 | I2: 노 무 비 | K2: 경 비 | M2: 비 고 | N2: 품목코드 | O2: 변수 | P2: 설정 | Q2: 공종코드 | R2: 일위 | S2: 단산 | T2: 자재 | U2: 손료적용 | V2: 손료저장 | W2: 적용율 | X2: JUK1 | Y2: JUK2 | Z2: JUK3 | AA2: JUK4 | AB2: JUK5 | AC2: JUK6 | AD2: JUK7 | AE2: JUK8 | AF2: JUK9 | AG2: JUK10 | AH2: JUK11 | AI2: JUK12 | AJ2: JUK13 | AK2: JUK14 | AL2: JUK15 | AM2: JUK16 | AN2: JUK17 | AO2: JUK18 | AP2: JUK19 | AQ2: JUK20 | AR2: 자재구분 | AS2: 공종구분 | AT2: 공종레벨 | AU2: 공종+자재 | AV2: 고유번호
E3: 단 가 | F3: 금 액 | G3: 단 가 | H3: 금 액 | I3: 단 가 | J3: 금 액 | K3: 단 가 | L3: 금 액
A4: =공사집계표!A5 -> Ⅰ. 관급자재비(펌프) | Q4: 0101010101
A5: 용수공급펌프(횡축편흡입펌프) | B5: Φ65 x 50 x 0.3㎥/min × 9mH 1.5kW x 380V | C5: 대 | D5: 2 | E5: =TRUNC(G5+I5+K5, 0) -> 0 | F5: =TRUNC(H5+J5+L5, 0) -> 0 | G5: =단가대비표!O44 -> 0 | H5: =D5*G5 -> 0 | I5: =TRUNC(단가대비표!P38,0) -> 0 | J5: =TRUNC(I5*D5, 0) -> 0 | K5: =TRUNC(단가대비표!V38,0) -> 0 | L5: =TRUNC(K5*D5, 0) -> 0 | N5: 5E60749373EE8AE7C5C7593BB78594 | Q5: 0101010101 | R5: F | S5: F | T5: T | AU5: 01010101015E60749373EE8AE7C5C7593BB78594 | AV5: 1010
A6: 탈취기순환펌프(횡축편흡입펌프) | B6: Φ100 x 80 x 1.54㎥/min × 16mH 7.5kW x 380V | C6: 대 | D6: 1 | E6: =TRUNC(G6+I6+K6, 0) -> 0 | F6: =TRUNC(H6+J6+L6, 0) -> 0 | G6: =단가대비표!O45 -> 0 | H6: =D6*G6 -> 0 | I6: =TRUNC(단가대비표!P39,0) -> 0 | J6: =TRUNC(I6*D6, 0) -> 0 | K6: =TRUNC(단가대비표!V39,0) -> 0 | L6: =TRUNC(K6*D6, 0) -> 0
A7: =단가대비표!B46 -> 용수공급펌프(횡축편흡입펌프) | B7: Φ150 x 2.5㎥/min × 15mH 1.5kW x 380V | C7: =단가대비표!D46 -> 대 | D7: 4 | E7: =TRUNC(G7+I7+K7, 0) -> 0 | F7: =TRUNC(H7+J7+L7, 0) -> 0 | G7: =단가대비표!O46 -> 0 | H7: =D7*G7 -> 0 | I7: =TRUNC(단가대비표!P40,0) -> 0 | J7: =TRUNC(I7*D7, 0) -> 0 | K7: =TRUNC(단가대비표!V40,0) -> 0 | L7: =TRUNC(K7*D7, 0) -> 0
A26: [ 합 계 ] | F26: =SUM(F5:F25) -> 0 | H26: =SUM(H5:H25) -> 0 | J26: =SUM(J5:J25) -> 0 | L26: =SUM(L5:L25) -> 0 | N26: TOTAL
A27: 2. 하수찌꺼기시설 용수공급 펌프 및 배관 설치 | C27: 식 | D27: 1 | Q27: 010101010301
A28: ① 배관설치공사(50A)
A29: PIPE(STS 304) | B29: 50A×2.8t | C29: M | D29: 56 | E29: =TRUNC(G29+I29+K29, 0) -> 0 | F29: =TRUNC(H29+J29+L29, 0) -> 0 | G29: =TRUNC(단가대비표!O5,0) -> 0 | H29: =TRUNC(G29*D29, 0) -> 0 | I29: =TRUNC(단가대비표!P5,0) -> 0 | J29: =TRUNC(I29*D29, 0) -> 0 | K29: =TRUNC(단가대비표!V5,0) -> 0 | L29: =TRUNC(K29*D29, 0) -> 0 | N29: 5E93043EF3CE84C3EE1B517D9756A50F9819ED | Q29: 010101010301 | R29: F | S29: F | T29: T | AU29: 0101010103015E93043EF3CE84C3EE1B517D9756A50F9819ED | AV29: 1075
A30: 90˚ ELBOW(STS 304) | B30: 50A | C30: EA | D30: 10 | E30: =TRUNC(G30+I30+K30, 0) -> 0 | F30: =TRUNC(H30+J30+L30, 0) -> 0 | G30: =TRUNC(단가대비표!O6,0) -> 0 | H30: =TRUNC(G30*D30, 0) -> 0 | I30: =TRUNC(단가대비표!P7,0) -> 0 | J30: =TRUNC(I30*D30, 0) -> 0 | K30: =TRUNC(단가대비표!V7,0) -> 0 | L30: =TRUNC(K30*D30, 0) -> 0 | N30: 5E93043EF3CE84C3EE1B517D9756A50F981A8D | Q30: 010101010301 | R30: F | S30: F | T30: T | AU30: 0101010103015E93043EF3CE84C3EE1B517D9756A50F981A8D | AV30: 1077
A31: TEE(STS 304) | B31: 50A | C31: EA | D31: 4 | E31: =TRUNC(G31+I31+K31, 0) -> 0 | F31: =TRUNC(H31+J31+L31, 0) -> 0 | G31: =TRUNC(단가대비표!O7,0) -> 0 | H31: =TRUNC(G31*D31, 0) -> 0 | I31: =TRUNC(단가대비표!P9,0) -> 0 | J31: =TRUNC(I31*D31, 0) -> 0 | K31: =TRUNC(단가대비표!V9,0) -> 0 | L31: =TRUNC(K31*D31, 0) -> 0 | N31: 5E93043EF3CE84C3EE1B517D9756A50F981F0E | Q31: 010101010301 | R31: F | S31: F | T31: T | AU31: 0101010103015E93043EF3CE84C3EE1B517D9756A50F981F0E | AV31: 1079
A32: FLANGE(STS 304,10K) | B32: 50A | C32: EA | D32: 20 | E32: =TRUNC(G32+I32+K32, 0) -> 0 | F32: =TRUNC(H32+J32+L32, 0) -> 0 | G32: =TRUNC(단가대비표!O8,0) -> 0 | H32: =TRUNC(G32*D32, 0) -> 0 | I32: =TRUNC(단가대비표!P10,0) -> 0 | J32: =TRUNC(I32*D32, 0) -> 0 | K32: =TRUNC(단가대비표!V10,0) -> 0 | L32: =TRUNC(K32*D32, 0) -> 0 | N32: 5E93043EF3CE84C3EE1B517D9756A4682F1090 | Q32: 010101010301 | R32: F | S32: F | T32: T | AU32: 0101010103015E93043EF3CE84C3EE1B517D9756A4682F1090 | AV32: 1082
A33: REDUCER(STS304) | B33: 100 x 50A, 10K 용접식 | C33: EA | D33: 1 | E33: =TRUNC(G33+I33+K33, 0) -> 0 | F33: =TRUNC(H33+J33+L33, 0) -> 0 | G33: =TRUNC(단가대비표!O9,0) -> 0 | H33: =TRUNC(G33*D33, 0) -> 0 | I33: =TRUNC(단가대비표!P11,0) -> 0 | J33: =TRUNC(I33*D33, 0) -> 0 | K33: =TRUNC(단가대비표!V11,0) -> 0 | L33: =TRUNC(K33*D33, 0) -> 0 | N33: 5E93043EF3CE84C3EE1B517D9756A50F992286 | Q33: 010101010301 | R33: F | S33: F | T33: T | AU33: 0101010103015E93043EF3CE84C3EE1B517D9756A50F992286 | AV33: 1083
A34: BALL VALVE(스텐인레스) | B34: 50A, 10K | C34: EA | D34: 6 | E34: =TRUNC(G34+I34+K34, 0) -> 0 | F34: =TRUNC(H34+J34+L34, 0) -> 0 | G34: =TRUNC(단가대비표!O10,0) -> 0 | H34: =TRUNC(G34*D34, 0) -> 0 | I34: =TRUNC(단가대비표!P12,0) -> 0 | J34: =TRUNC(I34*D34, 0) -> 0 | K34: =TRUNC(단가대비표!V12,0) -> 0 | L34: =TRUNC(K34*D34, 0) -> 0 | N34: 5E93043EF3CE84C3EE1B517D9756A50F992550 | Q34: 010101010301 | R34: F | S34: F | T34: T | AU34: 0101010103015E93043EF3CE84C3EE1B517D9756A50F992550 | AV34: 1086
A35: CHECK VALVE(스테인레스) | B35: 50A, 10K | C35: EA | D35: 2 | E35: =TRUNC(G35+I35+K35, 0) -> 0 | F35: =TRUNC(H35+J35+L35, 0) -> 0 | G35: =TRUNC(단가대비표!O11,0) -> 0 | H35: =TRUNC(G35*D35, 0) -> 0 | I35: =TRUNC(단가대비표!P13,0) -> 0 | J35: =TRUNC(I35*D35, 0) -> 0 | K35: =TRUNC(단가대비표!V13,0) -> 0 | L35: =TRUNC(K35*D35, 0) -> 0 | N35: 5E93043EF3CE84C3EE1B517D9756A50F99267F | Q35: 010101010301 | R35: F | S35: F | T35: T | AU35: 0101010103015E93043EF3CE84C3EE1B517D9756A50F99267F | AV35: 1087
A36: FLX.JOINT(스테인레스) | B36: 50A, 10K | C36: EA | D36: 4 | E36: =TRUNC(G36+I36+K36, 0) -> 0 | F36: =TRUNC(H36+J36+L36, 0) -> 0 | G36: =TRUNC(단가대비표!O12,0) -> 0 | H36: =TRUNC(G36*D36, 0) -> 0 | I36: =TRUNC(단가대비표!P14,0) -> 0 | J36: =TRUNC(I36*D36, 0) -> 0 | K36: =TRUNC(단가대비표!V14,0) -> 0 | L36: =TRUNC(K36*D36, 0) -> 0 | N36: 5E93043EF3CE84C3EE1B517D9756A50F992707 | Q36: 010101010301 | R36: F | S36: F | T36: T | AU36: 0101010103015E93043EF3CE84C3EE1B517D9756A50F992707 | AV36: 1088
A37: 스테인레스강관 배관 설치 | B37: 50A | C37: m당 | D37: 56 | E37: =TRUNC(G37+I37+K37, 0) -> 0 | F37: =TRUNC(H37+J37+L37, 0) -> 0 | G37: =일위대가!H9 -> 0 | H37: =TRUNC(G37*D37, 0) -> 0 | I37: =일위대가!J9 -> 0 | J37: =TRUNC(I37*D37, 0) -> 0 | K37: =TRUNC(일위대가목록!H4,0) -> 0 | L37: =TRUNC(K37*D37, 0) -> 0 | N37: 5E2F34B0A38A84099DD650F167043C | Q37: 010101010301 | R37: T | S37: F | T37: F | AU37: 0101010103015E2F34B0A38A84099DD650F167043C | AV37: 1092
A38: 스테인레스강관 용접접합 | B38: 50A | C38: 개소 | D38: 40 | E38: =TRUNC(G38+I38+K38, 0) -> 0 | F38: =TRUNC(H38+J38+L38, 0) -> 0 | G38: =일위대가!H18 -> 0 | H38: =TRUNC(G38*D38, 0) -> 0 | I38: =일위대가!J13 -> 0 | J38: =TRUNC(I38*D38, 0) -> 0 | K38: =일위대가!L13 -> 0 | L38: =TRUNC(K38*D38, 0) -> 0 | N38: 5E2F34B0A38A84099DD650F16706E9 | Q38: 010101010301 | R38: T | S38: F | T38: F | AU38: 0101010103015E2F34B0A38A84099DD650F16706E9 | AV38: 1093
A39: 스테인레스강관 용접접합 | B39: 100A | C39: 개소 | D39: 1 | E39: =TRUNC(G39+I39+K39, 0) -> 0 | F39: =TRUNC(H39+J39+L39, 0) -> 0 | G39: =일위대가!H27 -> 0 | H39: =TRUNC(G39*D39, 0) -> 0 | I39: =일위대가!J22 -> 0 | J39: =TRUNC(I39*D39, 0) -> 0 | K39: =TRUNC(일위대가목록!H7,0) -> 0 | L39: =TRUNC(K39*D39, 0) -> 0 | N39: 5E2F34B0A38A84099DD650F127A1B5 | Q39: 010101010301 | R39: T | S39: F | T39: F | AU39: 0101010103015E2F34B0A38A84099DD650F127A1B5 | AV39: 1095
A40: 펌프설치 | B40: 1.5KW이하 | C40: 대 | D40: 2 | E40: =TRUNC(G40+I40+K40, 0) -> 0 | F40: =TRUNC(H40+J40+L40, 0) -> 0 | G40: =일위대가!H15 -> 0 | H40: =TRUNC(G40*D40, 0) -> 0 | I40: =일위대가!J68 -> 0 | J40: =TRUNC(I40*D40, 0) -> 0 | K40: =TRUNC(일위대가목록!H10,0) -> 0 | L40: =TRUNC(K40*D40, 0) -> 0 | N40: 5E2F34B0A38A84099DD650F14751DE | Q40: 010101010301 | R40: T | S40: F | T40: F | AU40: 0101010103015E2F34B0A38A84099DD650F14751DE | AV40: 1098
A41: 펌프설치 | B41: 7.5KW이하 | C41: 대 | D41: 1 | E41: =TRUNC(G41+I41+K41, 0) -> 0 | F41: =TRUNC(H41+J41+L41, 0) -> 0 | G41: =일위대가!H73 -> 0 | H41: =TRUNC(G41*D41, 0) -> 0 | I41: =일위대가!J73 -> 0 | J41: =TRUNC(I41*D41, 0) -> 0 | K41: =TRUNC(일위대가목록!H11,0) -> 0 | L41: =TRUNC(K41*D41, 0) -> 0 | N41: 5E2F34B0A38A84099DD650F1475640 | Q41: 010101010301 | R41: T | S41: F | T41: F | AU41: 0101010103015E2F34B0A38A84099DD650F1475640 | AV41: 1099
A42: 펌프철거 | B42: 7.5KW이하, 설치품의 40% | C42: 대 | D42: 1 | E42: =TRUNC(G42+I42+K42, 0) -> 0 | F42: =TRUNC(H42+J42+L42, 0) -> 0 | G42: =일위대가!H89 -> 0 | H42: =TRUNC(G42*D42, 0) -> 0 | I42: =일위대가!J89 -> 0 | J42: =TRUNC(I42*D42, 0) -> 0 | K42: =일위대가!L89 -> 0 | L42: =TRUNC(K42*D42, 0) -> 0 | N42: 5E2F34B0A38A84099DD650F107F000 | Q42: 010101010301 | R42: T | S42: F | T42: F | AU42: 0101010103015E2F34B0A38A84099DD650F107F000 | AV42: 1102
A43: 구멍뚫기(벽체) | B43: T=100, D=300 | C43: 개소 | D43: 3
A44: 밸브설치 | B44: 50A | C44: 개 | D44: 8
A45: 플렉시블컨넥터 설치 | B45: 50A | C45: 개 | D45: 4
A46: 밸브취부 | B46: 50A | C46: 개 | D46: 8
A47: 플랜지취부 | B47: 50A | C47: 개 | D47: 20
A48: 기존판넬 개량 | B48: W800 x H1800 x D400 | C48: 면 | D48: 1
A50: [ 합 계 ] | N50: TOTAL
A51: ② 잡철물제작설치(STS) 간단 | Q51: 010101010302
A52: ㄱ형강(STS304) | B52: 65x65x6t | C52: KG | D52: 25 | N52: 5E93043EF3CE84C3EE1B517D9756A50F9AC671 | Q52: 010101010302 | R52: F | S52: F | T52: T | AU52: 0101010103025E93043EF3CE84C3EE1B517D9756A50F9AC671 | AV52: 1104
A53: 열연강판(STS304) | B53: PL - 6T | C53: KG | D53: 15 | N53: 5E93043EF3CE84C3EE1B517D9756A50F9AC554 | Q53: 010101010302 | R53: F | S53: F | T53: T | AU53: 0101010103025E93043EF3CE84C3EE1B517D9756A50F9AC554 | AV53: 1105
A54: ANCHOR BOLT/NUT | B54: M12 x 160L | C54: SET | D54: 24 | E54: =TRUNC(G54+I54+K54, 0) -> 0 | F54: =TRUNC(H54+J54+L54, 0) -> 0 | G54: =TRUNC(단가대비표!O16,0) -> 0 | H54: =TRUNC(G54*D54, 0) -> 0 | I54: =TRUNC(단가대비표!P16,0) -> 0 | J54: =TRUNC(I54*D54, 0) -> 0 | K54: =TRUNC(단가대비표!V16,0) -> 0 | L54: =TRUNC(K54*D54, 0) -> 0 | N54: 5E93043EF3CE84C3EE1B517D9756A50F9AC3AC | Q54: 010101010302 | R54: F | S54: F | T54: T | AU54: 0101010103025E93043EF3CE84C3EE1B517D9756A50F9AC3AC | AV54: 1106
A55: U-Bolt/Nut (STS304) | B55: 50A | C55: SET | D55: 18 | E55: =TRUNC(G55+I55+K55, 0) -> 0 | F55: =TRUNC(H55+J55+L55, 0) -> 0 | G55: =TRUNC(단가대비표!O15,0) -> 0 | H55: =TRUNC(G55*D55, 0) -> 0 | I55: =TRUNC(단가대비표!P15,0) -> 0 | J55: =TRUNC(I55*D55, 0) -> 0 | K55: =TRUNC(단가대비표!V15,0) -> 0 | L55: =TRUNC(K55*D55, 0) -> 0 | N55: 5E93043EF3CE84C3EE1B517D9756A50F9AC44E | Q55: 010101010302 | R55: F | S55: F | T55: T | AU55: 0101010103025E93043EF3CE84C3EE1B517D9756A50F9AC44E | AV55: 1107
A56: 잡철물제작설치(STS) | B56: 간단 | C56: TON | D56: 0.105 | E56: =TRUNC(G56+I56+K56, 0) -> 0 | F56: =TRUNC(H56+J56+L56, 0) -> 0 | G56: =TRUNC(일위대가목록!F9,0) -> 0 | H56: =TRUNC(G56*D56, 0) -> 0 | I56: =TRUNC(일위대가목록!G9,0) -> 0 | J56: =TRUNC(I56*D56, 0) -> 0 | K56: =TRUNC(일위대가목록!H9,0) -> 0 | L56: =TRUNC(K56*D56, 0) -> 0 | N56: 5E2F34B0A38A84099DD650F1179C71 | Q56: 010101010302 | R56: T | S56: F | T56: F | AU56: 0101010103025E2F34B0A38A84099DD650F1179C71 | AV56: 1109
A71: [ 합 계 ] | F71: =SUM(F52:F70) -> 0 | H71: =SUM(H52:H70) -> 0 | J71: =SUM(J52:J70) -> 0 | L71: =SUM(L52:L70) -> 0 | N71: TOTAL
A72: 3. 재이용수 공급 배관 설치 및 노후 펌프교체 | C72: 식 | D72: 1
A73: ① 배관설치공사(150A)
A74: PIPE(STS 304) | B74: 150A×2.8t | C74: M | D74: 15 | E74: =TRUNC(G74+I74+K74, 0) -> 0 | F74: =TRUNC(H74+J74+L74, 0) -> 0 | G74: =TRUNC(단가대비표!O50,0) -> 0 | H74: =TRUNC(G74*D74, 0) -> 0 | I74: =TRUNC(단가대비표!P50,0) -> 0 | J74: =TRUNC(I74*D74, 0) -> 0 | K74: =TRUNC(단가대비표!V50,0) -> 0 | L74: =TRUNC(K74*D74, 0) -> 0
A75: 90˚ ELBOW(STS 304) | B75: 150A | C75: EA | D75: 6 | E75: =TRUNC(G75+I75+K75, 0) -> 0 | F75: =TRUNC(H75+J75+L75, 0) -> 0 | G75: =TRUNC(단가대비표!O51,0) -> 0 | H75: =TRUNC(G75*D75, 0) -> 0 | I75: =TRUNC(단가대비표!P52,0) -> 0 | J75: =TRUNC(I75*D75, 0) -> 0 | K75: =TRUNC(단가대비표!V52,0) -> 0 | L75: =TRUNC(K75*D75, 0) -> 0
A76: FLANGE(STS 304,10K) | B76: 150A | C76: EA | D76: 2 | E76: =TRUNC(G76+I76+K76, 0) -> 0 | F76: =TRUNC(H76+J76+L76, 0) -> 0 | G76: =TRUNC(단가대비표!O52,0) -> 0 | H76: =TRUNC(G76*D76, 0) -> 0 | I76: =TRUNC(단가대비표!P54,0) -> 0 | J76: =TRUNC(I76*D76, 0) -> 0 | K76: =TRUNC(단가대비표!V54,0) -> 0 | L76: =TRUNC(K76*D76, 0) -> 0
A77: 게이트밸브(주강제) | B77: D150mm(10kg/㎠) | C77: EA | D77: 1 | E77: =TRUNC(G77+I77+K77, 0) -> 0 | F77: =TRUNC(H77+J77+L77, 0) -> 0 | G77: =TRUNC(단가대비표!O48,0) -> 0 | H77: =TRUNC(G77*D77, 0) -> 0 | I77: =TRUNC(단가대비표!P55,0) -> 0 | J77: =TRUNC(I77*D77, 0) -> 0 | K77: =TRUNC(단가대비표!V55,0) -> 0 | L77: =TRUNC(K77*D77, 0) -> 0
A78: 게이트밸브(주강제) | B78: D50mm(10kg/㎠) | C78: EA | D78: 1 | E78: =TRUNC(G78+I78+K78, 0) -> 0 | F78: =TRUNC(H78+J78+L78, 0) -> 0 | G78: =TRUNC(단가대비표!O49,0) -> 0 | H78: =TRUNC(G78*D78, 0) -> 0 | I78: =TRUNC(단가대비표!P57,0) -> 0 | J78: =TRUNC(I78*D78, 0) -> 0 | K78: =TRUNC(단가대비표!V57,0) -> 0 | L78: =TRUNC(K78*D78, 0) -> 0
A79: 스테인레스강관 배관 설치 | B79: 150A | C79: M | D79: 15 | E79: =TRUNC(G79+I79+K79, 0) -> 0 | F79: =TRUNC(H79+J79+L79, 0) -> 0 | G79: =일위대가!H33 -> 0 | H79: =TRUNC(G79*D79, 0) -> 0 | I79: =일위대가!J33 -> 0 | J79: =TRUNC(I79*D79, 0) -> 0 | K79: =일위대가목록!H18 -> 0 | L79: =TRUNC(K79*D79, 0) -> 0
A80: 스테인레스강관 용접접합 | B80: 150A | C80: 개소 | D80: 16 | E80: =TRUNC(G80+I80+K80, 0) -> 0 | F80: =TRUNC(H80+J80+L80, 0) -> 0 | G80: =일위대가!H42 -> 0 | H80: =TRUNC(G80*D80, 0) -> 0 | I80: =일위대가!J37 -> 0 | J80: =TRUNC(I80*D80, 0) -> 0 | K80: =일위대가목록!H37 -> 0 | L80: =TRUNC(K80*D80, 0) -> 0
A81: 펌프설치 | B81: 11KW이하 | C81: 대 | D81: 4 | E81: =TRUNC(G81+I81+K81, 0) -> 0 | F81: =TRUNC(H81+J81+L81, 0) -> 0 | G81: =일위대가!H78 -> 0 | H81: =TRUNC(G81*D81, 0) -> 0 | I81: =일위대가!J78 -> 0 | J81: =TRUNC(I81*D81, 0) -> 0 | K81: =TRUNC(일위대가목록!H48,0) -> 0 | L81: =TRUNC(K81*D81, 0) -> 0
A82: 펌프철거 | B82: 11KW이하, 설치품의 40% | C82: 대 | D82: 4 | E82: =TRUNC(G82+I82+K82, 0) -> 0 | F82: =TRUNC(H82+J82+L82, 0) -> 0 | G82: =일위대가!H94 -> 0 | H82: =TRUNC(G82*D82, 0) -> 0 | I82: =일위대가!J94 -> 0 | J82: =TRUNC(I82*D82, 0) -> 0 | K82: =일위대가!L57 -> 0 | L82: =TRUNC(K82*D82, 0) -> 0
A83: 게이트밸브설치 | B83: 150A | C83: 개 | D83: 1 | E83: =TRUNC(G83+I83+K83, 0) -> 0 | F83: =TRUNC(H83+J83+L83, 0) -> 0 | G83: =일위대가!H71 -> 0 | H83: =TRUNC(G83*D83, 0) -> 0 | I83: =일위대가!J66 -> 0 | J83: =TRUNC(I83*D83, 0) -> 0 | K83: =TRUNC(일위대가목록!H51,0) -> 0 | L83: =TRUNC(K83*D83, 0) -> 0
A95: [ 합 계 ] | F95: =SUM(F74:F94) -> 0 | H95: =SUM(H74:H94) -> 0 | J95: =SUM(J74:J94) -> 0 | L95: =SUM(L74:L94) -> 0
A96: ② 잡철물제작설치(STS) 간단
A97: ㄱ형강(STS304) | B97: 65x65x6t | C97: KG | D97: 10 | E97: =TRUNC(G97+I97+K97, 0) -> 0 | F97: =TRUNC(H97+J97+L97, 0) -> 0 | G97: =TRUNC(단가대비표!O13,0) -> 0 | H97: =TRUNC(G97*D97, 0) -> 0 | I97: =TRUNC(단가대비표!P59,0) -> 0 | J97: =TRUNC(I97*D97, 0) -> 0 | K97: =TRUNC(단가대비표!V59,0) -> 0 | L97: =TRUNC(K97*D97, 0) -> 0
A98: 열연강판(STS304) | B98: PL - 6T | C98: KG | D98: 5 | E98: =TRUNC(G98+I98+K98, 0) -> 0 | F98: =TRUNC(H98+J98+L98, 0) -> 0 | G98: =TRUNC(단가대비표!O14,0) -> 0 | H98: =TRUNC(G98*D98, 0) -> 0 | I98: =TRUNC(단가대비표!P60,0) -> 0 | J98: =TRUNC(I98*D98, 0) -> 0 | K98: =TRUNC(단가대비표!V60,0) -> 0 | L98: =TRUNC(K98*D98, 0) -> 0
A99: ANCHOR BOLT/NUT | B99: M12 x 160L | C99: SET | D99: 6 | E99: =TRUNC(G99+I99+K99, 0) -> 0 | F99: =TRUNC(H99+J99+L99, 0) -> 0 | G99: =TRUNC(단가대비표!O16,0) -> 0 | H99: =TRUNC(G99*D99, 0) -> 0 | I99: =TRUNC(단가대비표!P62,0) -> 0 | J99: =TRUNC(I99*D99, 0) -> 0 | K99: =TRUNC(단가대비표!V62,0) -> 0 | L99: =TRUNC(K99*D99, 0) -> 0
A100: U-Bolt/Nut (STS304) | B100: 150A | C100: SET | D100: 6 | E100: =TRUNC(G100+I100+K100, 0) -> 0 | F100: =TRUNC(H100+J100+L100, 0) -> 0 | G100: =TRUNC(단가대비표!O15,0) -> 0 | H100: =TRUNC(G100*D100, 0) -> 0 | I100: =TRUNC(단가대비표!P61,0) -> 0 | J100: =TRUNC(I100*D100, 0) -> 0 | K100: =TRUNC(단가대비표!V61,0) -> 0 | L100: =TRUNC(K100*D100, 0) -> 0
A101: 잡철물제작설치(STS) | B101: 간단 | C101: TON | D101: 0.105 | E101: =TRUNC(G101+I101+K101, 0) -> 0 | F101: =TRUNC(H101+J101+L101, 0) -> 0 | G101: =TRUNC(단가대비표!O17,0) -> 0 | H101: =TRUNC(G101*D101, 0) -> 0 | I101: =TRUNC(일위대가목록!G24,0) -> 0 | J101: =TRUNC(I101*D101, 0) -> 0 | K101: =TRUNC(일위대가목록!H24,0) -> 0 | L101: =TRUNC(K101*D101, 0) -> 0
A116: [ 합 계 ] | F116: =SUM(F97:F115) -> 0 | H116: =SUM(H97:H115) -> 0 | J116: =SUM(J97:J115) -> 0 | L116: =SUM(L97:L115) -> 0

Sheet 일위대가목록
B1: 일 위 대 가 목 록
B2: =공사집계표!A2 -> [재이용수 공급설비 보완 및 노후펌프 교체 공사]
A3: 코 드 | B3: 품 명 | C3: 규 격 | D3: 단위 | E3: 합 계 | F3: 재 료 비 | G3: 노 무 비 | H3: 경 비 | I3: 번 호 | J3: 비 고 | K3: 노임계수 | L3: 할증 | M3: 품셈개요 | N3: 장비일위
A4: 5E2F34B0A38A84099DD650F167043C | B4: 스테인레스강관 배관 설치 | C4: 50A | D4: m당 | E4: =F4+G4+H4 -> 0 | F4: =일위대가!H9 -> 0 | G4: =일위대가!J9 -> 0 | H4: =일위대가!L9 -> 0
A5: 5E2F34B0A38A84099DD650F127A7DE | B5: 스테인레스강관 용접접합 | C5: 50A | D5: 개소 | E5: =F5+G5+H5 -> 0 | F5: =일위대가!H13 -> 0 | G5: =일위대가!J13 -> 0 | H5: =일위대가!L13 -> 0
A6: 5E2F34B0A38A84099DD650F127A0AE | B6: 스테인레스강관 알곤용접 재료 | C6: 50A | D6: 개소 | E6: =F6+G6+H6 -> 0 | F6: =일위대가!H18 -> 0 | G6: =일위대가!J27 -> 0 | H6: =일위대가!L27 -> 0
A7: 5E2F34B0A38A84099DD650F127A7DE | B7: 스테인레스강관 용접접합 | C7: 100A | D7: 개소 | E7: =F7+G7+H7 -> 0 | F7: =일위대가!H22 -> 0 | G7: =일위대가!J22 -> 0 | H7: =일위대가!L22 -> 0
A8: 5E2F34B0A38A84099DD650F127A0AE | B8: 스테인레스강관 알곤용접 재료 | C8: 100A | D8: 개소 | E8: =F8+G8+H8 -> 0 | F8: =일위대가!H27 -> 0 | G8: =일위대가!J27 -> 0 | H8: =일위대가!L27 -> 0
A9: 5E2F34B0A38A84099DD650F1179C71 | B9: 잡철물제작설치(STS) 50A | C9: 간단 | D9: TON | E9: =F9+G9+H9 -> 0 | F9: =일위대가!H62 -> 0 | G9: =일위대가!J62 -> 0 | H9: =일위대가!L62 -> 0
A10: 5E607493037A87390E1151BA8738E2 | B10: 펌프설치 | C10: 1.5KW이하 | D10: 대 | E10: =F10+G10+H10 -> 0 | F10: =일위대가!H68 -> 0 | G10: =일위대가!J68 -> 0 | H10: =일위대가!L68 -> 0
A11: 5E607493037A87390E1151BA873C58 | B11: 펌프설치 | C11: 7.5KW이하 | D11: 대 | E11: =F11+G11+H11 -> 0 | F11: =일위대가!H73 -> 0 | G11: =일위대가!J73 -> 0 | H11: =일위대가!L73 -> 0
B12: 펌프철거 | C12: 7.5KW이하, 설치품의 40% | D12: 대 | E12: =F12+G12+H12 -> 0 | F12: =일위대가!H89 -> 0 | G12: =일위대가!J89 -> 0 | H12: =일위대가!L89 -> 0
B13: 구멍뚫기(벽체) | C13: T=100, D=300 | D13: 개소 | E13: =F13+G13+H13 -> 751 | F13: =일위대가!H84 -> 0 | G13: =일위대가!J84 -> 0 | H13: =일위대가!L84 -> 751
B14: 밸브설치 | C14: 50A | D14: 대 | E14: =F14+G14+H14 -> 0 | F14: =일위대가!H101 -> 0 | G14: =일위대가!J101 -> 0 | H14: =일위대가!L101 -> 0
B15: 플렉시블컨넥터 설치 | C15: 50A | D15: 대 | E15: =F15+G15+H15 -> 0 | F15: =일위대가!H106 -> 0 | G15: =일위대가!J106 -> 0 | H15: =일위대가!L106 -> 0
B16: 밸브취부 | C16: 50A | D16: 대 | E16: =F16+G16+H16 -> 0 | F16: =일위대가!H111 -> 0 | G16: =일위대가!J111 -> 0 | H16: =일위대가!L111 -> 0
B17: 플랜지취부 | C17: 50A | D17: 대 | E17: =F17+G17+H17 -> 0 | F17: =일위대가!H116 -> 0 | G17: =일위대가!J116 -> 0 | H17: =일위대가!L116 -> 0
B18: 스테인레스강관 배관 설치 | C18: 150A | D18: m당 | E18: =F18+G18+H18 -> 0 | F18: =일위대가!H33 -> 0 | G18: =일위대가!J33 -> 0 | H18: =일위대가!L33 -> 0
B19: 스테인레스강관 용접접합 | C19: 150A | D19: 개소 | E19: =F19+G19+H19 -> 0 | F19: =일위대가!H37 -> 0 | G19: =일위대가!J37 -> 0 | H19: =일위대가!L37 -> 0
B21: 스테인레스강관 알곤용접 재료 | C21: 150A | D21: 개소 | E21: =F21+G21+H21 -> 0 | F21: =일위대가!H42 -> 0 | G21: =일위대가!J42 -> 0 | H21: =일위대가!L42 -> 0
B22: 펌프설치 | C22: 11KW이하 | D22: 대 | E22: =F22+G22+H22 -> 0 | F22: =일위대가!H84 -> 0 | G22: =일위대가!J78 -> 0 | H22: =일위대가!L78 -> 0
B23: 펌프철거 | C23: 11KW이하, 설치품의 40% | D23: 대 | E23: =F23+G23+H23 -> 0 | F23: =일위대가!H100 -> 0 | G23: =일위대가!J94 -> 0 | H23: =일위대가!L94 -> 0
B24: 잡철물제작설치(STS) 150A | C24: 간단 | D24: TON | E24: =F24+G24+H24 -> 0 | F24: =일위대가!H62 -> 0 | G24: =일위대가!J62 -> 0 | H24: =일위대가!L62 -> 0

Sheet 일위대가
C1: 일 위 대 가 표
A2: =공사집계표!A2 -> [재이용수 공급설비 보완 및 노후펌프 교체 공사]
A3: 품 명 | B3: 규 격 | C3: 단위 | D3: 수량 | E3: 합 계 | G3: 재 료 비 | I3: 노 무 비 | K3: 경 비 | M3: 비 고 | N3: 일위대가 | O3: 품목코드 | P3: 일위 | Q3: 단산 | R3: 자재 | S3: 손료적용 | T3: 손료저장 | U3: 적용율 | V3: JUK1 | W3: JUK2 | X3: JUK3 | Y3: JUK4 | Z3: JUK5 | AA3: JUK6 | AB3: JUK7 | AC3: JUK8 | AD3: 할증적용 | AE3: 할증저장 | AF3: 할증율 | AG3: HAL1 | AH3: HAL2 | AI3: HAL3 | AJ3: 자재구분 | AK3: 일위대가+자재 | AL3: 장비일위 | AM3: 설정
E4: 단 가 | F4: 금 액 | G4: 단 가 | H4: 금 액 | I4: 단 가 | J4: 금 액 | K4: 단 가 | L4: 금 액
A5: 스테인레스강관 배관 50A m당 (건설공사 표준품셈 기계설비Ⅱ 1-1-2) | N5: 5E2F34B0A38A84099DD650F167043C
A6: 배관공 | B6: 일반공사 직종 | C6: 인 | D6: 0.079 | E6: =TRUNC(G6+I6+K6,0) -> 0 | F6: =TRUNC(H6+J6+L6,0) -> 0 | G6: =단가대비표!O29 -> 0 | H6: =TRUNC(G6*D6,0) -> 0 | I6: =단가대비표!P29 -> 0 | J6: =TRUNC(I6*D6,0) -> 0 | K6: =단가대비표!V29 -> 0 | L6: =TRUNC(K6*D6,0) -> 0 | N6: 5E2F34B0A38A84099DD650F167043C | O6: 5E7034CAF32D869B32BB5DED8727D74D6DCC62 | P6: F | Q6: F | R6: T | V6: 1 | AK6: 5E2F34B0A38A84099DD650F167043C5E7034CAF32D869B32BB5DED8727D74D6DCC62
A7: 보통인부 | B7: 일반공사 직종 | C7: 인 | D7: 0.032 | E7: =TRUNC(G7+I7+K7,0) -> 0 | F7: =TRUNC(H7+J7+L7,0) -> 0 | G7: =단가대비표!O24 -> 0 | H7: =TRUNC(G7*D7,0) -> 0 | I7: =단가대비표!P24 -> 0 | J7: =TRUNC(I7*D7,0) -> 0 | K7: =단가대비표!V25 -> 0 | L7: =TRUNC(K7*D7,0) -> 0 | N7: 5E2F34B0A38A84099DD650F167043C | O7: 5E7034CAF32D869B32BB5DED8727D74D6DCF3C | P7: F | Q7: F | R7: T | V7: 1 | AK7: 5E2F34B0A38A84099DD650F167043C5E7034CAF32D869B32BB5DED8727D74D6DCF3C
A8: 공구손료 | B8: 노무비의 3% | C8: 식 | D8: 1 | E8: =TRUNC(G8+I8+K8,0) -> 0 | F8: =TRUNC(H8+J8+L8,0) -> 0 | G8: 0 | H8: =TRUNC(G8*D8,0) -> 0 | I8: 0 | J8: =TRUNC(I8*D8,0) -> 0 | K8: =TRUNC(SUMIF(V6:V8, RIGHTB(O8, 1), J6:J8)*U8, 2) -> 0 | L8: =TRUNC(K8*D8,0) -> 0 | N8: 5E2F34B0A38A84099DD650F167043C | O8: 5FB6A450533C8EB618B15961D70B1 | P8: F | Q8: F | R8: F | S8: 1 | T8: 2 | U8: 0.03 | AK8: 5E2F34B0A38A84099DD650F167043C5FB6A450533C8EB618B15961D70B1
A9: [ 합 계 ] | F9: =H9+J9+L9 -> 0 | H9: =TRUNC(SUMIF(N6:N8, N5, H6:H8),0) -> 0 | J9: =TRUNC(SUMIF(N6:N8, N5, J6:J8),0) -> 0 | L9: =TRUNC(SUMIF(N6:N8, N5, L6:L8),0) -> 0 | N9: TOTAL | O9: TOTAL
A11: 스테인레스강관 용접접합 50A 개소당 (건설공사 표준품셈 기계설비Ⅱ 1-1-2) | N11: 5E2F34B0A38A84099DD650F167043C
A12: 용접공 | B12: 일반공사 직종 | C12: 인 | D12: 0.099 | E12: =TRUNC(G12+I12+K12,0) -> 0 | F12: =TRUNC(H12+J12+L12,0) -> 0 | G12: =단가대비표!O27 -> 0 | H12: =TRUNC(G12*D12,0) -> 0 | I12: =단가대비표!P27 -> 0 | J12: =TRUNC(I12*D12,0) -> 0 | K12: =단가대비표!V34 -> 0 | L12: =TRUNC(K12*D12,0) -> 0 | N12: 5E2F34B0A38A84099DD650F167043C | O12: 5E7034CAF32D869B32BB5DED8727D74D6DCE1B | P12: F | Q12: F | R12: T | V12: 1 | AK12: 5E2F34B0A38A84099DD650F167043C5E7034CAF32D869B32BB5DED8727D74D6DCE1B
A13: [ 합 계 ] | F13: =H13+J13+L13 -> 0 | H13: =TRUNC(SUMIF(N9:N12, N8, H9:H12),0) -> 0 | J13: =TRUNC(SUMIF(N9:N12, N8, J9:J12),0) -> 0 | L13: =TRUNC(SUMIF(N9:N12, N8, L9:L12),0) -> 0 | N13: TOTAL | O13: TOTAL
A15: 스테인레스강관 알곤용접 소모재료 50A 개소당 (건설공사 표준품셈 기계설비Ⅱ 1-1-2) | N15: 5E2F34B0A38A84099DD650F127A7DE
A16: 용접봉 | B16: AWS E308L-16 Φ3.2 | C16: KG | D16: 0.055 | E16: =TRUNC(G16+I16+K16,0) -> 0 | F16: =TRUNC(H16+J16+L16,0) -> 0 | G16: =단가대비표!O17 -> 0 | H16: =TRUNC(G16*D16,0) -> 0 | I16: =단가대비표!P17 -> 0 | J16: =TRUNC(I16*D16,0) -> 0 | K16: =단가대비표!V17 -> 0 | L16: =TRUNC(K16*D16,0) -> 0 | N16: 5E2F34B0A38A84099DD650F127A7DE | O16: 5E93043EF3CE84C3EE1B517D9756A50F9BED0B | P16: F | Q16: F | R16: T | AK16: 5E2F34B0A38A84099DD650F127A7DE5E93043EF3CE84C3EE1B517D9756A50F9BED0B
A17: 알곤 | B17: 압축가스 | C17: ℓ | D17: 0.265 | E17: =TRUNC(G17+I17+K17,0) -> 0 | F17: =TRUNC(H17+J17+L17,0) -> 0 | G17: =단가대비표!O21 -> 0 | H17: =TRUNC(G17*D17,0) -> 0 | I17: =단가대비표!P21 -> 0 | J17: =TRUNC(I17*D17,0) -> 0 | K17: =단가대비표!V21 -> 0 | L17: =TRUNC(K17*D17,0) -> 0 | N17: 5E2F34B0A38A84099DD650F127A7DE | O17: 5E93043EF3CE84C3EE1B517D9756A50F9BEA47 | P17: F | Q17: F | R17: T | AK17: 5E2F34B0A38A84099DD650F127A7DE5E93043EF3CE84C3EE1B517D9756A50F9BEA47
A18: [ 합 계 ] | F18: =H18+J18+L18 -> 0 | H18: =TRUNC(SUMIF(N16:N17, N15, H16:H17),0) -> 0 | J18: =TRUNC(SUMIF(N16:N17, N15, J16:J17),0) -> 0 | L18: =TRUNC(SUMIF(N16:N17, N15, L16:L17),0) -> 0 | N18: TOTAL | O18: TOTAL
A20: 스테인레스강관 용접접합 100A 개소당 (건설공사 표준품셈 기계설비Ⅱ 1-1-2) | N20: 5E2F34B0A38A84099DD650F167043C
A21: 용접공 | B21: 일반공사 직종 | C21: 인 | D21: 0.167 | E21: =TRUNC(G21+I21+K21,0) -> 0 | F21: =TRUNC(H21+J21+L21,0) -> 0 | G21: =단가대비표!O27 -> 0 | H21: =TRUNC(G21*D21,0) -> 0 | I21: =단가대비표!P27 -> 0 | J21: =TRUNC(I21*D21,0) -> 0 | K21: =단가대비표!V43 -> 0 | L21: =TRUNC(K21*D21,0) -> 0 | N21: 5E2F34B0A38A84099DD650F167043C | O21: 5E7034CAF32D869B32BB5DED8727D74D6DCE1B | P21: F | Q21: F | R21: T | V21: 1 | AK21: 5E2F34B0A38A84099DD650F167043C5E7034CAF32D869B32BB5DED8727D74D6DCE1B
A22: [ 합 계 ] | F22: =H22+J22+L22 -> 0 | H22: =TRUNC(SUMIF(N18:N21, N17, H18:H21),0) -> 0 | J22: =SUM(J21) -> 0 | L22: =TRUNC(SUMIF(N18:N21, N17, L18:L21),0) -> 0 | N22: TOTAL | O22: TOTAL
A24: 스테인레스강관 알곤용접 소모재료 100A 개소당 (건설공사 표준품셈 기계설비Ⅱ 1-1-2) | N24: 5E2F34B0A38A84099DD650F127A0AE
A25: 용접봉 | B25: AWS E308L-16 Φ3.2 | C25: KG | D25: 0.313 | E25: =TRUNC(G25+I25+K25,0) -> 0 | F25: =TRUNC(H25+J25+L25,0) -> 0 | G25: =단가대비표!O17 -> 0 | H25: =TRUNC(G25*D25,0) -> 0 | I25: =단가대비표!P17 -> 0 | J25: =TRUNC(I25*D25,0) -> 0 | K25: =단가대비표!V17 -> 0 | L25: =TRUNC(K25*D25,0) -> 0 | N25: 5E2F34B0A38A84099DD650F127A0AE | O25: 5E93043EF3CE84C3EE1B517D9756A50F9BED0B | P25: F | Q25: F | R25: T | AK25: 5E2F34B0A38A84099DD650F127A0AE5E93043EF3CE84C3EE1B517D9756A50F9BED0B
A26: 알곤 | B26: 압축가스 | C26: ℓ | D26: 0.699 | E26: =TRUNC(G26+I26+K26,0) -> 0 | F26: =TRUNC(H26+J26+L26,0) -> 0 | G26: =단가대비표!O21 -> 0 | H26: =TRUNC(G26*D26,0) -> 0 | I26: =단가대비표!P21 -> 0 | J26: =TRUNC(I26*D26,0) -> 0 | K26: =단가대비표!V21 -> 0 | L26: =TRUNC(K26*D26,0) -> 0 | N26: 5E2F34B0A38A84099DD650F127A0AE | O26: 5E93043EF3CE84C3EE1B517D9756A50F9BEA47 | P26: F | Q26: F | R26: T | AK26: 5E2F34B0A38A84099DD650F127A0AE5E93043EF3CE84C3EE1B517D9756A50F9BEA47
A27: [ 합 계 ] | F27: =H27+J27+L27 -> 0 | H27: =TRUNC(SUMIF(N25:N26, N24, H25:H26),0) -> 0 | J27: =TRUNC(SUMIF(N25:N26, N24, J25:J26),0) -> 0 | L27: =TRUNC(SUMIF(N25:N26, N24, L25:L26),0) -> 0 | N27: TOTAL | O27: TOTAL
A29: 스테인레스강관 배관 150A m당 (건설공사 표준품셈 기계설비Ⅱ 1-1-2) | N29: 5E2F34B0A38A84099DD650F1179C71
A30: 배관공 | B30: 일반공사 직종 | C30: 인 | D30: 0.24 | E30: =TRUNC(G30+I30+K30,0) -> 0 | F30: =TRUNC(H30+J30+L30,0) -> 0 | G30: =단가대비표!O29 -> 0 | H30: =TRUNC(G30*D30,0) -> 0 | I30: =단가대비표!P29 -> 0 | J30: =TRUNC(I30*D30,0) -> 0 | K30: =단가대비표!V53 -> 0 | L30: =TRUNC(K30*D30,0) -> 0 | N30: 5E2F34B0A38A84099DD650F1179C71 | O30: 5E93043EF3CE84C3EE1B517D9756A50F9BED0B | P30: F | Q30: F | R30: T | AK30: 5E2F34B0A38A84099DD650F1179C715E93043EF3CE84C3EE1B517D9756A50F9BED0B
A31: 보통인부 | B31: 일반공사 직종 | C31: 인 | D31: 0.101 | E31: =TRUNC(G31+I31+K31,0) -> 0 | F31: =TRUNC(H31+J31+L31,0) -> 0 | G31: =단가대비표!O24 -> 0 | H31: =TRUNC(G31*D31,0) -> 0 | I31: =단가대비표!P24 -> 0 | J31: =TRUNC(I31*D31,0) -> 0 | K31: =단가대비표!V49 -> 0 | L31: =TRUNC(K31*D31,0) -> 0 | N31: 5E2F34B0A38A84099DD650F1179C71 | O31: 5E93043EF3CE84C3EE1B517D9756A50F9BEA46 | P31: F | Q31: F | R31: T | AK31: 5E2F34B0A38A84099DD650F1179C715E93043EF3CE84C3EE1B517D9756A50F9BEA46
A32: 공구손료 | B32: 노무비의 3% | C32: 식 | D32: 1 | E32: =TRUNC(G32+I32+K32,0) -> 0 | F32: =TRUNC(H32+J32+L32,0) -> 0 | G32: 0 | H32: =TRUNC(G32*D32,0) -> 0 | I32: 0 | J32: =TRUNC(I32*D32,0) -> 0 | K32: =(J30+J31)*3% -> 0 | L32: =TRUNC(K32*D32,0) -> 0 | N32: 5E2F34B0A38A84099DD650F1179C71 | O32: 5E93043EF3CE84C3EE1B517D9756A50F9BE6D3 | P32: F | Q32: F | R32: T | AK32: 5E2F34B0A38A84099DD650F1179C715E93043EF3CE84C3EE1B517D9756A50F9BE6D3
A33: [ 합 계 ] | F33: =H33+J33+L33 -> 0 | H33: =TRUNC(SUMIF(N30:N32, N29, H30:H32),0) -> 0 | J33: =TRUNC(SUMIF(N30:N32, N29, J30:J32),0) -> 0 | L33: =TRUNC(SUMIF(N30:N32, N29, L30:L32),0) -> 0 | N33: 5E2F34B0A38A84099DD650F1179C71 | O33: 5E7034CAF32D869B32BB5DED8727D74D6DCF36 | P33: F | Q33: F | R33: T | V33: 1 | AK33: 5E2F34B0A38A84099DD650F1179C715E7034CAF32D869B32BB5DED8727D74D6DCF36
N34: 5E2F34B0A38A84099DD650F1179C71 | O34: 5E7034CAF32D869B32BB5DED8727D74D6DCF3D | P34: F | Q34: F | R34: T | V34: 1 | AK34: 5E2F34B0A38A84099DD650F1179C715E7034CAF32D869B32BB5DED8727D74D6DCF3D
A35: 스테인레스강관 용접접합 150A 개소당 (건설공사 표준품셈 기계설비Ⅱ 1-1-2) | N35: 5E2F34B0A38A84099DD650F1179C71 | O35: 5E7034CAF32D869B32BB5DED8727D74D6DCE1B | P35: F | Q35: F | R35: T | V35: 1 | AK35: 5E2F34B0A38A84099DD650F1179C715E7034CAF32D869B32BB5DED8727D74D6DCE1B
A36: 용접공 | B36: 일반공사 직종 | C36: 인 | D36: 0.231 | E36: =TRUNC(G36+I36+K36,0) -> 0 | F36: =TRUNC(H36+J36+L36,0) -> 0 | G36: =단가대비표!O27 -> 0 | H36: =TRUNC(G36*D36,0) -> 0 | I36: =단가대비표!P27 -> 0 | J36: =TRUNC(I36*D36,0) -> 0 | K36: =단가대비표!V59 -> 0 | L36: =TRUNC(K36*D36,0) -> 0 | N36: 5E2F34B0A38A84099DD650F1179C71 | O36: 5E7034CAF32D869B32BB5DED8727D74D6DCF3C | P36: F | Q36: F | R36: T | V36: 1 | AK36: 5E2F34B0A38A84099DD650F1179C715E7034CAF32D869B32BB5DED8727D74D6DCF3C
A37: [ 합 계 ] | F37: =H37+J37+L37 -> 0 | G37: =G36 -> 0 | H37: =H36 -> 0 | J37: =J36 -> 0 | L37: =L36 -> 0 | N37: 5E2F34B0A38A84099DD650F1179C71 | O37: 5FB6A450533C8EB618B15961D70B1 | P37: F | Q37: F | R37: F | S37: 1 | T37: 2 | U37: 0.03 | AK37: 5E2F34B0A38A84099DD650F1179C715FB6A450533C8EB618B15961D70B1
N38: TOTAL | O38: TOTAL
A39: 스테인레스강관 알곤용접 소모재료 150A 개소당 (건설공사 표준품셈 기계설비Ⅱ 1-1-2)
A40: 용접봉 | B40: AWS E308L-16 Φ3.2 | C40: KG | D40: 0.601 | E40: =TRUNC(G40+I40+K40,0) -> 0 | F40: =TRUNC(H40+J40+L40,0) -> 0 | G40: =단가대비표!O17 -> 0 | H40: =TRUNC(G40*D40,0) -> 0 | I40: =단가대비표!P41 -> 0 | J40: =TRUNC(I40*D40,0) -> 0 | K40: =단가대비표!V41 -> 0 | L40: =TRUNC(K40*D40,0) -> 0 | N40: 5E607493037A87390E1151BA8738E2
A41: 알곤 | B41: 압축가스 | C41: ℓ | D41: 1.285 | E41: =TRUNC(G41+I41+K41,0) -> 0 | F41: =TRUNC(H41+J41+L41,0) -> 0 | G41: =단가대비표!O21 -> 0 | H41: =TRUNC(G41*D41,0) -> 0 | I41: =단가대비표!P45 -> 0 | J41: =TRUNC(I41*D41,0) -> 0 | K41: =단가대비표!V45 -> 0 | L41: =TRUNC(K41*D41,0) -> 0 | N41: 5E607493037A87390E1151BA8738E2 | O41: 5E7034CAF32D869B32BB5DED8727D74D6DCABF | P41: F | Q41: F | R41: T | AK41: 5E607493037A87390E1151BA8738E25E7034CAF32D869B32BB5DED8727D74D6DCABF
A42: [ 합 계 ] | F42: =H42+J42+L42 -> 0 | H42: =SUM(H40:H41) -> 0 | J42: =TRUNC(SUMIF(N40:N41, N39, J40:J41),0) -> 0 | L42: =TRUNC(SUMIF(N40:N41, N39, L40:L41),0) -> 0 | N42: 5E607493037A87390E1151BA8738E2 | O42: 5E7034CAF32D869B32BB5DED8727D74D6DCF3D | P42: F | Q42: F | R42: T | AK42: 5E607493037A87390E1151BA8738E25E7034CAF32D869B32BB5DED8727D74D6DCF3D
N43: 5E2F34B0A38A84099DD650F1179A43 | O43: 5FB6A450533C8EB618B15961D70B1 | P43: F | Q43: F | R43: F | S43: 1 | T43: 2 | U43: 0.03 | AK43: 5E2F34B0A38A84099DD650F1179A435FB6A450533C8EB618B15961D70B1
N44: TOTAL | O44: TOTAL
N46: 5E607493037A87390E1151BA873C58
N47: 5E607493037A87390E1151BA873C58 | O47: 5E7034CAF32D869B32BB5DED8727D74D6DCABF | P47: F | Q47: F | R47: T | AK47: 5E607493037A87390E1151BA873C585E7034CAF32D869B32BB5DED8727D74D6DCABF
N48: 5E607493037A87390E1151BA873C58 | O48: 5E7034CAF32D869B32BB5DED8727D74D6DCF3D | P48: F | Q48: F | R48: T | AK48: 5E607493037A87390E1151BA873C585E7034CAF32D869B32BB5DED8727D74D6DCF3D
N49: TOTAL | O49: TOTAL
N51: 5E607493037A87390E1151BA873C58
N52: 5E607493037A87390E1151BA873C58 | O52: 5E7034CAF32D869B32BB5DED8727D74D6DCABF | P52: F | Q52: F | R52: T | AK52: 5E607493037A87390E1151BA873C585E7034CAF32D869B32BB5DED8727D74D6DCABF
A53: 잡철물제작설치(STS) 간단 TON당 (건설공사 표준품셈 기계설비 Ⅱ 1-9) | N53: 5E607493037A87390E1151BA873C58 | O53: 5E7034CAF32D869B32BB5DED8727D74D6DCF3D | P53: F | Q53: F | R53: T | AK53: 5E607493037A87390E1151BA873C585E7034CAF32D869B32BB5DED8727D74D6DCF3D
A54: 용접봉 | B54: AWS E308L-16 Φ3.2 | C54: KG | D54: 18.48 | E54: =TRUNC(G54+I54+K54,0) -> 0 | F54: =TRUNC(H54+J54+L54,0) -> 0 | G54: =단가대비표!O17 -> 0 | H54: =TRUNC(G54*D54,0) -> 0 | I54: =단가대비표!P17 -> 0 | J54: =TRUNC(I54*D54,0) -> 0 | K54: =단가대비표!V17 -> 0 | L54: =TRUNC(K54*D54,0) -> 0 | N54: 5E607493037A87390E1151BA873C58 | O54: 5E7034CAF32D869B32BB5DED8727D74D6DCF3D | P54: F | Q54: F | R54: T | AK54: 5E607493037A87390E1151BA873C585E7034CAF32D869B32BB5DED8727D74D6DCF3D
A55: 산소 | B55: 압축가스 | C55: ℓ | D55: 6300 | E55: =TRUNC(G55+I55+K55,0) -> 0 | F55: =TRUNC(H55+J55+L55,0) -> 0 | G55: =단가대비표!O20 -> 0 | H55: =TRUNC(G55*D55,0) -> 0 | I55: =단가대비표!P20 -> 0 | J55: =TRUNC(I55*D55,0) -> 0 | K55: =단가대비표!V20 -> 0 | L55: =TRUNC(K55*D55,0) -> 0 | N55: TOTAL | O55: TOTAL
A56: 아세틸렌 | C56: ℓ | D56: 2.8 | E56: =TRUNC(G56+I56+K56,0) -> 0 | F56: =TRUNC(H56+J56+L56,0) -> 0 | G56: =단가대비표!O23 -> 0 | H56: =TRUNC(G56*D56,0) -> 0 | I56: =단가대비표!P23 -> 0 | J56: =TRUNC(I56*D56,0) -> 0 | K56: =단가대비표!V23 -> 0 | L56: =TRUNC(K56*D56,0) -> 0
A57: 철공 | B57: 일반공사 직종 | C57: 인 | D57: 27.65 | E57: =TRUNC(G57+I57+K57,0) -> 0 | F57: =TRUNC(H57+J57+L57,0) -> 0 | G57: =단가대비표!O26 -> 0 | H57: =TRUNC(G57*D57,0) -> 0 | I57: =단가대비표!P26 -> 0 | J57: =TRUNC(I57*D57,0) -> 0 | K57: =단가대비표!V26 -> 0 | L57: =TRUNC(K57*D57,0) -> 0 | N57: 5E607493037A87390E1151BA873C58
A58: 보통인부 | B58: 일반공사 직종 | C58: 인 | D58: 0.66 | E58: =TRUNC(G58+I58+K58,0) -> 0 | F58: =TRUNC(H58+J58+L58,0) -> 0 | G58: =단가대비표!O24 -> 0 | H58: =TRUNC(G58*D58,0) -> 0 | I58: =단가대비표!P24 -> 0 | J58: =TRUNC(I58*D58,0) -> 0 | K58: =단가대비표!V24 -> 0 | L58: =TRUNC(K58*D58,0) -> 0 | N58: 5E607493037A87390E1151BA873C58 | O58: 5E7034CAF32D869B32BB5DED8727D74D6DCABF | P58: F | Q58: F | R58: T | AK58: 5E607493037A87390E1151BA873C585E7034CAF32D869B32BB5DED8727D74D6DCABF
A59: 용접공 | B59: 일반공사 직종 | C59: 인 | D59: 2.6 | E59: =TRUNC(G59+I59+K59,0) -> 0 | F59: =TRUNC(H59+J59+L59,0) -> 0 | G59: =단가대비표!O27 -> 0 | H59: =TRUNC(G59*D59,0) -> 0 | I59: =단가대비표!P27 -> 0 | J59: =TRUNC(I59*D59,0) -> 0 | K59: =단가대비표!V27 -> 0 | L59: =TRUNC(K59*D59,0) -> 0 | N59: 5E607493037A87390E1151BA873C58 | O59: 5E7034CAF32D869B32BB5DED8727D74D6DCF3D | P59: F | Q59: F | R59: T | AK59: 5E607493037A87390E1151BA873C585E7034CAF32D869B32BB5DED8727D74D6DCF3D
A60: 특별인부 | B60: 일반공사 직종 | C60: 인 | D60: 0.74 | E60: =TRUNC(G60+I60+K60,0) -> 0 | F60: =TRUNC(H60+J60+L60,0) -> 0 | G60: =단가대비표!O25 -> 0 | H60: =TRUNC(G60*D60,0) -> 0 | I60: =단가대비표!P25 -> 0 | J60: =TRUNC(I60*D60,0) -> 0 | K60: =단가대비표!V25 -> 0 | L60: =TRUNC(K60*D60,0) -> 0 | N60: TOTAL | O60: TOTAL
A61: 공구손료 | B61: 노무비의 3% | C61: 식 | D61: 1 | E61: =TRUNC(G61+I61+K61,0) -> 0 | F61: =TRUNC(H61+J61+L61,0) -> 0 | G61: 0 | H61: =TRUNC(G61*D61,0) -> 0 | I61: 0 | J61: =TRUNC(I61*D61,0) -> 0 | K61: =TRUNC(SUMIF(V30:V37, RIGHTB(O37, 1), J54:J61)*U37, 2) -> 0 | L61: =TRUNC(K61*D61,0) -> 0
A62: [ 합 계 ] | F62: =H62+J62+L62 -> 0 | H62: =TRUNC(SUMIF(N30:N37, N29, H54:H61),0) -> 0 | J62: =TRUNC(SUMIF(N30:N37, N29, J54:J61),0) -> 0 | L62: =TRUNC(SUMIF(N30:N37, N29, L54:L61),0) -> 0 | N62: 5E607493037A87390E1151BA873C58
N63: 5E607493037A87390E1151BA873C58 | O63: 5E7034CAF32D869B32BB5DED8727D74D6DCABF | P63: F | Q63: F | R63: T | AK63: 5E607493037A87390E1151BA873C585E7034CAF32D869B32BB5DED8727D74D6DCABF
A64: 펌프설치 1.5KW이하 대당 (건설공사 표준품셈 기계설비 Ⅱ 1-6-1) | N64: 5E607493037A87390E1151BA873C58 | O64: 5E7034CAF32D869B32BB5DED8727D74D6DCF3D | P64: F | Q64: F | R64: T | AK64: 5E607493037A87390E1151BA873C585E7034CAF32D869B32BB5DED8727D74D6DCF3D
A65: 기계설비공 | B65: 일반공사 직종 | C65: 인 | D65: 0.848 | E65: =TRUNC(G65+I65+K65,0) -> 0 | F65: =TRUNC(H65+J65+L65,0) -> 0 | G65: =단가대비표!O30 -> 0 | H65: =TRUNC(G65*D65,0) -> 0 | I65: =단가대비표!P30 -> 0 | J65: =TRUNC(I65*D65,0) -> 0 | K65: =단가대비표!V30 -> 0 | L65: =TRUNC(K65*D65,0) -> 0 | N65: TOTAL | O65: TOTAL
A66: 보통인부 | B66: 일반공사 직종 | C66: 인 | D66: 0.281 | E66: =TRUNC(G66+I66+K66,0) -> 0 | F66: =TRUNC(H66+J66+L66,0) -> 0 | G66: =단가대비표!O24 -> 0 | H66: =TRUNC(G66*D66,0) -> 0 | I66: =단가대비표!P24 -> 0 | J66: =TRUNC(I66*D66,0) -> 0 | K66: =단가대비표!V24 -> 0 | L66: =TRUNC(K66*D66,0) -> 0
A67: 공구손료 | B67: 노무비의 3% | C67: 식 | D67: 1 | E67: =TRUNC(G67+I67+K67,0) -> 0 | F67: =TRUNC(H67+J67+L67,0) -> 0 | G67: 0 | H67: =TRUNC(G67*D67,0) -> 0 | I67: 0 | J67: =TRUNC(I67*D67,0) -> 0 | K67: =TRUNC(SUMIF(V39:V43, RIGHTB(O43, 1), J63:J67)*U43, 2) -> 0 | L67: =TRUNC(K67*D67,0) -> 0
A68: [ 합 계 ] | F68: =H68+J68+L68 -> 0 | H68: =TRUNC(SUMIF(N41:N42, N40, H65:H66),0) -> 0 | J68: =TRUNC(SUMIF(N41:N42, N40, J65:J66),0) -> 0 | L68: =TRUNC(SUMIF(N41:N42, N40, L65:L66),0) -> 0 | N68: 5E607493037A87390E1151BA873C58 | O68: 5E7034CAF32D869B32BB5DED8727D74D6DCABF | P68: F | Q68: F | R68: T | AK68: 5E607493037A87390E1151BA873C585E7034CAF32D869B32BB5DED8727D74D6DCABF
N69: 5E607493037A87390E1151BA873C58 | O69: 5E7034CAF32D869B32BB5DED8727D74D6DCF3D | P69: F | Q69: F | R69: T | AK69: 5E607493037A87390E1151BA873C585E7034CAF32D869B32BB5DED8727D74D6DCF3D
A70: 펌프설치 7.5KW이하 대당 (건설공사 표준품셈 기계설비 Ⅱ 1-6-1) | N70: TOTAL | O70: TOTAL
A71: 기계설비공 | B71: 일반공사 직종 | C71: 인 | D71: 1.706 | E71: =TRUNC(G71+I71+K71,0) -> 0 | F71: =TRUNC(H71+J71+L71,0) -> 0 | G71: =단가대비표!O30 -> 0 | H71: =TRUNC(G71*D71,0) -> 0 | I71: =단가대비표!P30 -> 0 | J71: =TRUNC(I71*D71,0) -> 0 | K71: =단가대비표!V30 -> 0 | L71: =TRUNC(K71*D71,0) -> 0
A72: 보통인부 | B72: 일반공사 직종 | C72: 인 | D72: 0.565 | E72: =TRUNC(G72+I72+K72,0) -> 0 | F72: =TRUNC(H72+J72+L72,0) -> 0 | G72: =단가대비표!O24 -> 0 | H72: =TRUNC(G72*D72,0) -> 0 | I72: =단가대비표!P24 -> 0 | J72: =TRUNC(I72*D72,0) -> 0 | K72: =단가대비표!V24 -> 0 | L72: =TRUNC(K72*D72,0) -> 0
A73: [ 합 계 ] | F73: =H73+J73+L73 -> 0 | H73: =TRUNC(SUMIF(N47:N48, N46, H71:H72),0) -> 0 | J73: =TRUNC(SUMIF(N47:N48, N46, J71:J72),0) -> 0 | L73: =TRUNC(SUMIF(N47:N48, N46, L71:L72),0) -> 0 | N73: 5E607493037A87390E1151BA873C58 | O73: 5E7034CAF32D869B32BB5DED8727D74D6DCABF | P73: F | Q73: F | R73: T | AK73: 5E607493037A87390E1151BA873C585E7034CAF32D869B32BB5DED8727D74D6DCABF
N74: 5E607493037A87390E1151BA873C58 | O74: 5E7034CAF32D869B32BB5DED8727D74D6DCF3D | P74: F | Q74: F | R74: T | AK74: 5E607493037A87390E1151BA873C585E7034CAF32D869B32BB5DED8727D74D6DCF3D
A75: 펌프설치 11KW이하 대당 (건설공사 표준품셈 기계설비 Ⅱ 1-6-1) | N75: TOTAL | O75: TOTAL
A76: 기계설비공 | B76: 일반공사 직종 | C76: 인 | D76: 2.144 | E76: =TRUNC(G76+I76+K76,0) -> 0 | F76: =TRUNC(H76+J76+L76,0) -> 0 | G76: =단가대비표!O35 -> 0 | H76: =TRUNC(G76*D76,0) -> 0 | I76: =단가대비표!P30 -> 0 | J76: =TRUNC(I76*D76,0) -> 0 | K76: =단가대비표!V35 -> 0 | L76: =TRUNC(K76*D76,0) -> 0
A77: 보통인부 | B77: 일반공사 직종 | C77: 인 | D77: 0.71 | E77: =TRUNC(G77+I77+K77,0) -> 0 | F77: =TRUNC(H77+J77+L77,0) -> 0 | G77: =단가대비표!O29 -> 0 | H77: =TRUNC(G77*D77,0) -> 0 | I77: =단가대비표!P24 -> 0 | J77: =TRUNC(I77*D77,0) -> 0 | K77: =단가대비표!V29 -> 0 | L77: =TRUNC(K77*D77,0) -> 0
A78: [ 합 계 ] | F78: =H78+J78+L78 -> 0 | H78: =TRUNC(SUMIF(N52:N53, N51, H76:H77),0) -> 0 | J78: =TRUNC(SUMIF(N52:N53, N51, J76:J77),0) -> 0 | L78: =TRUNC(SUMIF(N52:N53, N51, L76:L77),0) -> 0 | N78: 5E607493037A87390E1151BA873C58 | O78: 5E7034CAF32D869B32BB5DED8727D74D6DCABF | P78: F | Q78: F | R78: T | AK78: 5E607493037A87390E1151BA873C585E7034CAF32D869B32BB5DED8727D74D6DCABF
N79: 5E607493037A87390E1151BA873C58 | O79: 5E7034CAF32D869B32BB5DED8727D74D6DCF3D | P79: F | Q79: F | R79: T | AK79: 5E607493037A87390E1151BA873C585E7034CAF32D869B32BB5DED8727D74D6DCF3D
A80: 배관을 위한 구멍뚫기(벽체) 개소당 (건설공사 표준품셈 기계설비 Ⅱ 1-8) | N80: TOTAL | O80: TOTAL
A81: 착암공 | B81: 일반공사 직종 | C81: 인 | D81: 0.368 | E81: =TRUNC(G81+I81+K81,0) -> 0 | F81: =TRUNC(H81+J81+L81,0) -> 0 | G81: =단가대비표!O35 -> 0 | H81: =TRUNC(G81*D81,0) -> 0 | I81: =단가대비표!P37 -> 0 | J81: =TRUNC(I81*D81,0) -> 0 | K81: =단가대비표!V35 -> 0 | L81: =TRUNC(K81*D81,0) -> 0
A82: 보통인부 | B82: 일반공사 직종 | C82: 인 | D82: 0.368 | E82: =TRUNC(G82+I82+K82,0) -> 0 | F82: =TRUNC(H82+J82+L82,0) -> 0 | G82: =단가대비표!O29 -> 0 | H82: =TRUNC(G82*D82,0) -> 0 | I82: =단가대비표!P24 -> 0 | J82: =TRUNC(I82*D82,0) -> 0 | K82: =단가대비표!V29 -> 0 | L82: =TRUNC(K82*D82,0) -> 0
A83: 코어드릴 사용시간 | C83: hr | D83: 1.87 | E83: =TRUNC(G83+I83+K83,0) -> 402 | F83: =TRUNC(H83+J83+L83,0) -> 751 | G83: =단가대비표!O29 -> 0 | H83: =TRUNC(G83*D83,0) -> 0 | J83: =TRUNC(I83*D83,0) -> 0 | K83: 402 | L83: =TRUNC(K83*D83,0) -> 751 | N83: 5E607493037A87390E1151BA873C58 | O83: 5E7034CAF32D869B32BB5DED8727D74D6DCABF | P83: F | Q83: F | R83: T | AK83: 5E607493037A87390E1151BA873C585E7034CAF32D869B32BB5DED8727D74D6DCABF
A84: [ 합 계 ] | F84: =H84+J84+L84 -> 751 | H84: =TRUNC(SUMIF(N52:N54, N51, H81:H83),0) -> 0 | J84: =TRUNC(SUMIF(N52:N54, N51, J81:J83),0) -> 0 | L84: =TRUNC(SUMIF(N52:N54, N51, L81:L83),0) -> 751 | N84: 5E607493037A87390E1151BA873C58 | O84: 5E7034CAF32D869B32BB5DED8727D74D6DCF3D | P84: F | Q84: F | R84: T | AK84: 5E607493037A87390E1151BA873C585E7034CAF32D869B32BB5DED8727D74D6DCF3D
N85: TOTAL | O85: TOTAL
A86: 펌프철거 7.5KW이하 대당 (건설공사 표준품셈 기계설비 Ⅱ 1-5)
A87: 기계설비공 | B87: 설치품의 40% | C87: 인 | D87: =D71*0.4 -> 0.6824 | E87: =TRUNC(G87+I87+K87,0) -> 0 | F87: =TRUNC(H87+J87+L87,0) -> 0 | G87: =단가대비표!O42 -> 0 | H87: =TRUNC(G87*D87,0) -> 0 | I87: =단가대비표!P30 -> 0 | J87: =TRUNC(I87*D87,0) -> 0 | K87: =단가대비표!V42 -> 0 | L87: =TRUNC(K87*D87,0) -> 0
A88: 보통인부 | B88: 설치품의 40% | C88: 인 | D88: =D72*0.4 -> 0.226 | E88: =TRUNC(G88+I88+K88,0) -> 0 | F88: =TRUNC(H88+J88+L88,0) -> 0 | G88: =단가대비표!O35 -> 0 | H88: =TRUNC(G88*D88,0) -> 0 | I88: =단가대비표!P24 -> 0 | J88: =TRUNC(I88*D88,0) -> 0 | K88: =단가대비표!V35 -> 0 | L88: =TRUNC(K88*D88,0) -> 0
A89: [ 합 계 ] | F89: =H89+J89+L89 -> 0 | H89: =TRUNC(SUMIF(N58:N59, N57, H87:H88),0) -> 0 | J89: =TRUNC(SUMIF(N58:N59, N57, J87:J88),0) -> 0 | L89: =TRUNC(SUMIF(N58:N59, N57, L87:L88),0) -> 0
A91: 펌프철거 11KW이하 대당 (건설공사 표준품셈 기계설비 Ⅱ 1-5)
A92: 기계설비공 | B92: 설치품의 40% | C92: 인 | D92: =D71*0.4 -> 0.6824 | E92: =TRUNC(G92+I92+K92,0) -> 0 | F92: =TRUNC(H92+J92+L92,0) -> 0 | G92: =단가대비표!O42 -> 0 | H92: =TRUNC(G92*D92,0) -> 0 | I92: =단가대비표!P30 -> 0 | J92: =TRUNC(I92*D92,0) -> 0 | K92: =단가대비표!V47 -> 0 | L92: =TRUNC(K92*D92,0) -> 0
A93: 보통인부 | B93: 설치품의 40% | C93: 인 | D93: =D77*0.4 -> 0.284 | E93: =TRUNC(G93+I93+K93,0) -> 0 | F93: =TRUNC(H93+J93+L93,0) -> 0 | G93: =단가대비표!O35 -> 0 | H93: =TRUNC(G93*D93,0) -> 0 | I93: =단가대비표!P24 -> 0 | J93: =TRUNC(I93*D93,0) -> 0 | K93: =단가대비표!V40 -> 0 | L93: =TRUNC(K93*D93,0) -> 0
A94: [ 합 계 ] | F94: =H94+J94+L94 -> 0 | H94: =TRUNC(SUMIF(N63:N64, N62, H92:H93),0) -> 0 | J94: =TRUNC(SUMIF(N63:N64, N62, J92:J93),0) -> 0 | L94: =TRUNC(SUMIF(N63:N64, N62, L92:L93),0) -> 0
A98: 밸브설치 개당 (건설공사 표준품셈 기계설비 Ⅱ 1-2-1)
A99: 배관공 | B99: 일반공사 직종 | C99: 인 | D99: 0.074 | E99: =TRUNC(G99+I99+K99,0) -> 0 | F99: =TRUNC(H99+J99+L99,0) -> 0 | G99: =단가대비표!O29 -> 0 | H99: =TRUNC(G99*D99,0) -> 0 | I99: =단가대비표!P27 -> 0 | J99: =TRUNC(I99*D99,0) -> 0 | K99: =단가대비표!V47 -> 0 | L99: =TRUNC(K99*D99,0) -> 0
A100: 보통인부 | B100: 일반공사 직종 | C100: 인 | D100: 0 | E100: =TRUNC(G100+I100+K100,0) -> 0 | F100: =TRUNC(H100+J100+L100,0) -> 0 | G100: =단가대비표!O41 -> 0 | H100: =TRUNC(G100*D100,0) -> 0 | I100: =단가대비표!P41 -> 0 | J100: =TRUNC(I100*D100,0) -> 0 | K100: =단가대비표!V41 -> 0 | L100: =TRUNC(K100*D100,0) -> 0
A101: [ 합 계 ] | F101: =H101+J101+L101 -> 0 | H101: =TRUNC(SUMIF(N63:N64, N62, H99:H100),0) -> 0 | J101: =TRUNC(SUMIF(N63:N64, N62, J99:J100),0) -> 0 | L101: =TRUNC(SUMIF(N63:N64, N62, L99:L100),0) -> 0
A103: 플랙시블커넥터설치 개당 (건설공사 표준품셈 기계설비 Ⅱ 1-2-3)
A104: 배관공 | B104: 일반공사 직종 | C104: 인 | D104: 0.083 | E104: =TRUNC(G104+I104+K104,0) -> 0 | F104: =TRUNC(H104+J104+L104,0) -> 0 | G104: 0 | H104: =TRUNC(G104*D104,0) -> 0 | I104: =단가대비표!P29 -> 0 | J104: =TRUNC(I104*D104,0) -> 0 | K104: =단가대비표!V52 -> 0 | L104: =TRUNC(K104*D104,0) -> 0
A105: 보통인부 | B105: 일반공사 직종 | C105: 인 | D105: 0.046 | E105: =TRUNC(G105+I105+K105,0) -> 0 | F105: =TRUNC(H105+J105+L105,0) -> 0 | G105: 0 | H105: =TRUNC(G105*D105,0) -> 0 | I105: =단가대비표!P24 -> 0 | J105: =TRUNC(I105*D105,0) -> 0 | K105: =단가대비표!V46 -> 0 | L105: =TRUNC(K105*D105,0) -> 0
A106: [ 합 계 ] | F106: =H106+J106+L106 -> 0 | H106: =TRUNC(SUMIF(N68:N69, N67, H104:H105),0) -> 0 | J106: =SUM(J104:J105) -> 0 | L106: =TRUNC(SUMIF(N68:N69, N67, L104:L105),0) -> 0
A108: 밸브 취부 개당 (건설공사 표준품셈 기계설비 Ⅲ 1-1-3)
A109: 플랜트배관공 | B109: 일반공사 직종 | C109: 인 | D109: 0.1 | E109: =TRUNC(G109+I109+K109,0) -> 0 | F109: =TRUNC(H109+J109+L109,0) -> 0 | G109: =단가대비표!O58 -> 0 | H109: =TRUNC(G109*D109,0) -> 0 | I109: =단가대비표!P36 -> 0 | J109: =TRUNC(I109*D109,0) -> 0 | K109: =단가대비표!V58 -> 0 | L109: =TRUNC(K109*D109,0) -> 0
A110: 특별인부 | B110: 일반공사 직종 | C110: 인 | D110: 0.05 | E110: =TRUNC(G110+I110+K110,0) -> 0 | F110: =TRUNC(H110+J110+L110,0) -> 0 | G110: =단가대비표!O51 -> 0 | H110: =TRUNC(G110*D110,0) -> 0 | I110: =단가대비표!P25 -> 0 | J110: =TRUNC(I110*D110,0) -> 0 | K110: =단가대비표!V51 -> 0 | L110: =TRUNC(K110*D110,0) -> 0
A111: [ 합 계 ] | F111: =H111+J111+L111 -> 0 | H111: =TRUNC(SUMIF(N73:N74, N72, H109:H110),0) -> 0 | J111: =SUM(J109:J110) -> 0 | L111: =TRUNC(SUMIF(N73:N74, N72, L109:L110),0) -> 0
A113: 플랜지 취부 개당 (건설공사 표준품셈 기계설비 Ⅲ 1-1-4)
A114: 플랜트배관공 | B114: 일반공사 직종 | C114: 인 | D114: 0.06 | E114: =TRUNC(G114+I114+K114,0) -> 0 | F114: =TRUNC(H114+J114+L114,0) -> 0 | G114: =단가대비표!O63 -> 0 | H114: =TRUNC(G114*D114,0) -> 0 | I114: =단가대비표!P36 -> 0 | J114: =TRUNC(I114*D114,0) -> 0 | K114: =단가대비표!V63 -> 0 | L114: =TRUNC(K114*D114,0) -> 0
...

Sheet 단가대비표
A1: 단 가 대 비 표
A2: =공사집계표!A2 -> [재이용수 공급설비 보완 및 노후펌프 교체 공사]
A3: 코 드 | B3: 품 명 | C3: 규격 | D3: 단위 | E3: 재 료 비 | P3: 노 무 비 | Q3: 경 비 | V3: 경 비 | W3: 번 호 | X3: 비 고 | Y3: 품목구분 | Z3: 노임구분 | AA3: 소수점처리 | AB3: 자재구분
E4: 물가정보 | F4: PAGE | G4: 견적가1 | H4: PAGE | I4: 견적가2 | J4: PAGE | K4: 거래가격 | L4: PAGE | M4: 조사가격 | N4: PAGE | O4: 적용단가 | Q4: 물가정보 | R4: 물가자료 | S4: 유통물가 | T4: 거래가격 | U4: 조사가격
A5: 5E93043EF3CE84C3EE1B517D9756A50F9819ED | B5: PIPE(STS 304) | C5: 50A×2.8t | D5: M
A6: 5E93043EF3CE84C3EE1B517D9756A50F9818DE | B6: 90˚ ELBOW(STS 304) | C6: 50A | D6: EA
A7: 5E93043EF3CE84C3EE1B517D9756A50F981A8D | B7: TEE(STS 304) | C7: 50A | D7: EA
A8: 5E93043EF3CE84C3EE1B517D9756A50F981A8C | B8: FLANGE(STS 304,10K) | C8: 50A | D8: EA
A9: 5E93043EF3CE84C3EE1B517D9756A50F981F0E | B9: REDUCER(STS304) | C9: 100 x 50A, 10K 용접식 | D9: EA
A10: 5E93043EF3CE84C3EE1B517D9756A50F981F09 | B10: BALL VALVE(SSC13) | C10: 50A, 10K | D10: EA
A11: 5E93043EF3CE84C3EE1B517D9756A50F992286 | B11: CHECK VALVE(SSC13) | C11: 50A, 10K | D11: EA
A12: 5E93043EF3CE84C3EE1B517D9756A50F992287 | B12: FLX.JOINT(SSC13) | C12: 50A, 10K | D12: EA
A13: 5E93043EF3CE84C3EE1B517D9756A50F9AC671 | B13: ㄱ형강(STS304) | C13: 65x65x6t | D13: KG
A14: 5E93043EF3CE84C3EE1B517D9756A50F9AC554 | B14: 열연강판(STS304) | C14: PL - 6T | D14: KG
A15: 5E93043EF3CE84C3EE1B517D9756A50F9AC44E | B15: U-Bolt/Nut (STS304) | C15: 50A | D15: SET
A16: 5E93043EF3CE84C3EE1B517D9756A50F9AC3AC | B16: ANCHOR BOLT/NUT(STS304) | C16: M12 x 150L | D16: SET
... A22: 5E93043EF3CE84C3EE1B517D9756A50F9BE883 | B22: GASKET | C22: 3.2t×50A 이하 | D22: EA
A23: 5E93043EF3CE84C3EE1B517D9756A50F9BE6D3 | B23: 아세틸렌 | D23: ℓ
A24: 5E7034CAF32D869B32BB5DED8727D74D6DCF3D | B24: 보통인부 | C24: 일반공사 직종 | D24: 인 | Y24: B
A25: 5E7034CAF32D869B32BB5DED8727D74D6DCF3C | B25: 특별인부 | C25: 일반공사 직종 | D25: 인 | Y25: B
A26: 5E7034CAF32D869B32BB5DED8727D74D6DCF36 | B26: 철공 | C26: 일반공사 직종 | D26: 인 | Y26: B
A27: 5E7034CAF32D869B32BB5DED8727D74D6DCE1B | B27: 용접공 | C27: 일반공사 직종 | D27: 인 | Y27: B
A28: 5E7034CAF32D869B32BB5DED8727D74D6DCD7B | B28: 도장공 | C28: 일반공사 직종 | D28: 인 | Y28: B
A29: 5E7034CAF32D869B32BB5DED8727D74D6DCC62 | B29: 배관공 | C29: 일반공사 직종 | D29: 인 | Y29: B
A30: 5E7034CAF32D869B32BB5DED8727D74D6DCABF | B30: 기계설비공 | C30: 일반공사 직종 | D30: 인 | Y30: B
B36: 플랜트배관공 | C36: 일반공사 직종 | D36: 인
B37: 착암공 | C37: 일반공사 직종 | D37: 인
A38: 5E60749373EE8AE7C5C7593BB78594 | B38: 기존 판넬 개량 | C38: W500 x H1800 x D400 | D38: 면
B44: 용수공급펌프(횡축편흡입펌프) | C44: Φ65 x 50 x 0.3㎥/min × 9mH 1.5kW x 380V | D44: 대
B45: 탈취기순환펌프(횡축편흡입펌프) | C45: Φ100 x 80 x 1.54㎥/min × 16mH 7.5kW x 380V | D45: 대
B46: 용수공급펌프(횡축편흡입펌프) | C46: Φ150 x 2.5㎥/min × 15mH 1.5kW x 380V | D46: 대
B47: 전동기 | C47: 11kW x 380V | D47: 대
B48: 게이트밸브(주강제) | C48: D150mm(10kg/㎠) | D48: 개
B49: 게이트밸브(주강제) | C49: D50mm(10kg/㎠) | D49: 개
B50: PIPE(STS 304) | C50: 150A×2.8t | D50: M
B51: 90˚ ELBOW(STS 304) | C51: 150A | D51: EA
B52: FLANGE(STS 304,10K) | C52: 150A | D52: EA

Sheet 도면
